BEGIN:VCALENDAR
PRODID:NingEventWidget-v1
VERSION:2.0
METHOD:PUBLISH
BEGIN:VEVENT
UID:4320450:Event:37081
DTSTAMP:20260425T143406Z
SUMMARY:Philadelphia Fashion Incubator Pop-Up Kick Off Party
DESCRIPTION:Join the Philadelphia Fashion Incubator for the “Summer
  Pop-Up Shop in Manayunk” kick-off party!  Shop the Summer  col
 lections of locally-made garments, handbags, jewelry, and scarves from
  past and present Designers-in-Residence.  \n\nFor more information v
 isit http://phillytodo.com/events/philadelphia-fashion-incubator-pop-u
 p-kick-off-party
DTSTART:20140625T210000Z
DTEND:20140630T000000Z
CATEGORIES:shopping
LOCATION:Pop-Up Shop
WEBSITE:
URL:
CONTACT:
ORGANIZER;CN=CashmanAssoc:http://phillytodo.com/profile/CashmanAssoc
ATTACH;FMTTYPE="image/jpeg":
ATTENDEE;ROLE=REQ-PARTICIPANT;PARTSTAT=ACCEPTED;RSVP=TRUE;CN=CashmanAs
 soc:http://phillytodo.com/profile/CashmanAssoc
END:VEVENT
END:VCALENDAR
