BEGIN:VCALENDAR
PRODID:NingEventWidget-v1
VERSION:2.0
METHOD:PUBLISH
BEGIN:VEVENT
UID:4320450:Event:37228
DTSTAMP:20260425T161651Z
SUMMARY:Philadelphia Fashion Incubator Manayunk Pop-Up Shop
DESCRIPTION:Join the Philadelphia Fashion Incubator for the Summer P
 op-Up Shop in Manayunk!  Shop the Summer collections of locally-ma
 de garments, handbags, jewelry, and scarves from past and present Desi
 gners-in-Residence.  Join us at the kick-off celebration on June 25, 
 2014, from 5:00pm to 8:00pm.\n\nFor more information visit http://phil
 lytodo.com/events/philadelphia-fashion-incubator-manayunk-pop-up-shop
DTSTART:20140625T150000Z
DTEND:20140630T000000Z
CATEGORIES:shopping
LOCATION:Pop-Up Shop
WEBSITE:
URL:
CONTACT:
ORGANIZER;CN=CashmanAssoc:http://phillytodo.com/profile/CashmanAssoc
ATTACH;FMTTYPE="image/jpeg":http://storage.ning.com/topology/rest/1.0/
 file/get/3054977854?profile=original
ATTENDEE;ROLE=REQ-PARTICIPANT;PARTSTAT=ACCEPTED;RSVP=TRUE;CN=CashmanAs
 soc:http://phillytodo.com/profile/CashmanAssoc
END:VEVENT
END:VCALENDAR
