BEGIN:VCALENDAR
PRODID:NingEventWidget-v1
VERSION:2.0
METHOD:PUBLISH
BEGIN:VEVENT
UID:4320450:Event:38862
DTSTAMP:20260425T151243Z
SUMMARY:Philadelphia Fashion Incubator & Joan Shepp Trunk Show
DESCRIPTION:You’re invited to shop local! Join Joan Shepp for a spec
 ial in-store trunk show with the Philadelphia Fashion Incubator! The s
 hopping event will feature MinkeeBlue, SupraEndura, Terese Sydonna, Jo
 van O’Conner, Victoria Wright, Rebeca Imperiano, Senpai+Kohai, Grant
 e Couture, and Pretty Pretty Rebel.\n\nFor more information visit http
 ://phillytodo.com/events/philadelphia-fashion-incubator-joan-shepp-tru
 nk-show
DTSTART:20141205T170000Z
DTEND:20141205T230000Z
CATEGORIES:shopping
LOCATION:Joan Shepp
WEBSITE:https://www.facebook.com/events/1480128142267006/
URL:https://www.facebook.com/events/1480128142267006/
CONTACT:2157352666
ORGANIZER:Cashman & Associates
ATTACH;FMTTYPE="image/jpeg":http://storage.ning.com/topology/rest/1.0/
 file/get/3054981425?profile=original
ATTENDEE;ROLE=REQ-PARTICIPANT;PARTSTAT=ACCEPTED;RSVP=TRUE;CN=CashmanAs
 soc:http://phillytodo.com/profile/CashmanAssoc
END:VEVENT
END:VCALENDAR
