BEGIN:VCALENDAR
PRODID:NingEventWidget-v1
VERSION:2.0
METHOD:PUBLISH
BEGIN:VEVENT
UID:4320450:Event:47065
DTSTAMP:20260425T131351Z
SUMMARY:Philadelphia Fashion Incubator Fashion Runway Show
DESCRIPTION:Get an exclusive first look of the Philadelphia Fashion In
 cubator Spring 2017 Collections from the Designers-In-Residence - Co
 nrad Booker, 611 by Nigel Richards, Milano di Rouge and Charley Girl D
 esigns in a presentation hosted by trend and lifestyle expert Anji Cor
 ley. After the show, guests are encouraged to visit the 2nd floor to 
 shop the collections, have a meet-and-greet with the designers and enj
 oy lite refreshments.\n\nFor more information visit http://phillytodo.
 com/events/philadelphia-fashion-incubator-fashion-runway-show
DTSTART:20160922T213000Z
DTEND:20160922T223000Z
CATEGORIES:fashion, show
LOCATION:Macy's
WEBSITE:http://www.philadelphiafashionincubator.com/
URL:http://www.philadelphiafashionincubator.com/
CONTACT:2156271060
ORGANIZER;CN=CashmanAssoc:http://phillytodo.com/profile/CashmanAssoc
ATTACH;FMTTYPE="image/jpeg":http://storage.ning.com/topology/rest/1.0/
 file/get/3054997751?profile=original
ATTENDEE;ROLE=REQ-PARTICIPANT;PARTSTAT=ACCEPTED;RSVP=TRUE;CN=CashmanAs
 soc:http://phillytodo.com/profile/CashmanAssoc
END:VEVENT
END:VCALENDAR
