BEGIN:VCALENDAR
PRODID:NingEventWidget-v1
VERSION:2.0
METHOD:PUBLISH
BEGIN:VEVENT
UID:4320450:Event:20105
DTSTAMP:20260425T142958Z
SUMMARY:Philadelphia Eagles Tight End, Brent Celek, hosts 2nd Annual C
 elebrity Server Night at Morton's The Steakhouse Philadelphia
DESCRIPTION:On Monday, November 14th join Brent Celek, his teammates a
 nd celebrity friends when they trade in their helmets and uniforms for
  plates and aprons, as they become servers for the evening! For $250 
 per person (exclusive of tax and gratuities), enjoy four courses of Mo
 rton's The Steakhouse signature cuisine, fine wine and an exciting auc
 tion, while supporting a good cause. The reception and silent auction 
 will begin at 7 p.m. and dinner and the live auction will begin at 8 p
 .m. Visit https://www.prolanthropytickets.org/brentcelek/reserve_your_
 seat_pd.php to purchase tickets and learn more about Brent Celek's Tak
 e Flight Foundation. To learn more about Morton's The Steakhouse Phila
 delphia, visit http://www.Mortons.com/Philadelphia.\n\nFor more inform
 ation visit http://phillytodo.com/events/philadelphia-eagles-tight-end
 -brent-celek-hosts-2nd-annual
DTSTART:20111115T000000Z
DTEND:20111115T030000Z
CATEGORIES:celebrity, server, event, -, all, proceeds, benefit, brent,
  "celek's", take, flight, foundation
LOCATION:Morton's The Steakhouse Philadelphia
WEBSITE:http://mortons.com/philadelphia/
URL:http://mortons.com/philadelphia/
CONTACT:
ORGANIZER:
ATTACH;FMTTYPE="image/jpeg":http://storage.ning.com/topology/rest/1.0/
 file/get/3054957478?profile=original
ATTENDEE;ROLE=REQ-PARTICIPANT;PARTSTAT=ACCEPTED;RSVP=TRUE;CN="Becky Le
 vin":http://phillytodo.com/profile/BeckyLevin
END:VEVENT
END:VCALENDAR
