BEGIN:VCALENDAR
PRODID:NingEventWidget-v1
VERSION:2.0
METHOD:PUBLISH
BEGIN:VEVENT
UID:4320450:Event:38608
DTSTAMP:20260425T125011Z
SUMMARY:Philadelphia “County Fair”
DESCRIPTION:From October 10-12th, The Oval will transform into the Phi
 ladelphia “County Fair” complete with carnival games, a pumpkin pa
 tch, live music and even a Ferris Wheel! A showing of the seasonal cla
 ssic- “Hocus Pocus” and concessions with fair cuisine – deep fri
 ed oreos, chicken tenders and cinnamon sweet potato fries complete the
  fall merriment at the park during Columbus Day Weekend!\n\nFor more i
 nformation visit http://phillytodo.com/events/philadelphia-county-fair
DTSTART:20141010T040000Z
DTEND:20141013T035900Z
CATEGORIES:fair
LOCATION:The Oval
WEBSITE:http://www.theovalphl.org/
URL:http://www.theovalphl.org/
CONTACT:
ORGANIZER;CN=CashmanAssoc:http://phillytodo.com/profile/CashmanAssoc
ATTACH;FMTTYPE="image/jpeg":http://storage.ning.com/topology/rest/1.0/
 file/get/3054981444?profile=original
ATTENDEE;ROLE=REQ-PARTICIPANT;PARTSTAT=ACCEPTED;RSVP=TRUE;CN=CashmanAs
 soc:http://phillytodo.com/profile/CashmanAssoc
END:VEVENT
END:VCALENDAR
