BEGIN:VCALENDAR
PRODID:NingEventWidget-v1
VERSION:2.0
METHOD:PUBLISH
BEGIN:VEVENT
UID:4320450:Event:54996
DTSTAMP:20260425T143252Z
SUMMARY:Philadelphia Chinese Lantern Festival in Franklin Square
DESCRIPTION:The spectacular Philadelphia Chinese Lantern Festival in F
 ranklin Square is a celebration of light and culture that features art
 isans from China creating magnificent steel-framed and silk-wrapped gi
 ant lighted sculptures, using traditional Chinese methods. Franklin S
 quare will glow with 28 larger-than-life illuminated groupings of 1,50
 0 individual works of art with more than 15,000 LED lights in brillian
 t colors.In addition to the gorgeous light installations, festival-goe
 rs will witness authentic cultural performances that are all new for 2
 018 including the unusual and impressive art of face-changing and a va
 riety of different Chinese acrobatic acts. Visitors can taste Asian cu
 isine and American favorites, drink a toast at the Dragon Beer Garden 
 open nightly, and shop for Chinese folk artists’ crafts created on s
 ite.\n\nFor more information visit http://phillytodo.com/events/philad
 elphia-chinese-lantern-festival-in-franklin-square-1
DTSTART:20180501T040000Z
DTEND:20180701T035900Z
CATEGORIES:festival
LOCATION:Franklin Square
WEBSITE:http://historicphiladelphia.org/chineselanternfestival/
URL:http://historicphiladelphia.org/chineselanternfestival/
CONTACT:
ORGANIZER;CN="Cari Feiler Bender":http://phillytodo.com/profile/CariFe
 ilerBender
ATTACH;FMTTYPE="image/jpeg":http://storage.ning.com/topology/rest/1.0/
 file/get/3055013775?profile=original
ATTENDEE;ROLE=REQ-PARTICIPANT;PARTSTAT=ACCEPTED;RSVP=TRUE;CN="Cari Fei
 ler Bender":http://phillytodo.com/profile/CariFeilerBender
END:VEVENT
END:VCALENDAR
