BEGIN:VCALENDAR
PRODID:NingEventWidget-v1
VERSION:2.0
METHOD:PUBLISH
BEGIN:VEVENT
UID:4320450:Event:50402
DTSTAMP:20260425T173639Z
SUMMARY:Philadelphia 76ers 2017 Official Draft Party
DESCRIPTION:The Piazza at Schmidt’s Commons (1001 N 2nd St., Philade
 lphia, PA 19123.) will host the 2017 Official Draft Party of the Phila
 delphia 76ers on Thursday, June 22 from 6:00pm to 10:00pm. Fans are in
 vited to watch the 2017 NBA Draft broadcast live on the Piazza’s 400
 -square-foot HD LED screen, while enjoying appearances by Sixers legen
 ds, mascot Franklin, Sixers Dancers and more. The party will also feat
 ure a live DJ, trivia contests, vendors, a silent auction, and food an
 d drink specials from restaurants within the Piazza. Visit bit.ly/Sixe
 rsDraftRSVP for free registration instructions and event information. 
 The first 500 fans in attendance will receive a free limited edition T
 -shirt. The party is open to fans of all ages! Rain or shine.\n\nFor m
 ore information visit http://phillytodo.com/events/philadelphia-76ers-
 2017-official-draft-party
DTSTART:20170622T220000Z
DTEND:20170623T020000Z
CATEGORIES:draft, party
LOCATION:piazza at schmidt's
WEBSITE:
URL:
CONTACT:
ORGANIZER;CN="Aversa PR & Events":http://phillytodo.com/profile/KoryAv
 ersa277
ATTACH;FMTTYPE="image/jpeg":http://storage.ning.com/topology/rest/1.0/
 file/get/3055003896?profile=original
ATTENDEE;ROLE=REQ-PARTICIPANT;PARTSTAT=ACCEPTED;RSVP=TRUE;CN="Aversa P
 R & Events":http://phillytodo.com/profile/KoryAversa277
END:VEVENT
END:VCALENDAR
