BEGIN:VCALENDAR
PRODID:NingEventWidget-v1
VERSION:2.0
METHOD:PUBLISH
BEGIN:VEVENT
UID:4320450:Event:45524
DTSTAMP:20260425T161355Z
SUMMARY:Phil Vassar at Valley Forge Casino Resort Music Fair
DESCRIPTION:Valley Forge Casino Resort Music Fair at the Valley Forge 
 Casino Resort (1160 First Avenue) presents 1999s Billboard Country Son
 gwriter of the Year Phil Vassar on Friday, May 13th, 2016. Phil Vassar
  has topped the charts with perennial favorite Just Another Day in Par
 adise and continues to churn out soulful lyrics and infectious melodie
 s that captures his fans hearts and souls. Phil Vassar: One night only
 . Doors will open at 7:00pm, with the show starting at 8:00pm. Tickets
  are on sale now at Ticketmaster for $37.00 to $109.00 each\n\nFor mor
 e information visit http://phillytodo.com/events/phil-vassar-at-valley
 -forge-casino-resort-music-fair
DTSTART:20160514T000000Z
DTEND:20160514T020000Z
CATEGORIES:concert
LOCATION:Valley Forge Casino Resort
WEBSITE:https://www.vfcasino.com/events/phil-vassar/
URL:https://www.vfcasino.com/events/phil-vassar/
CONTACT:
ORGANIZER;CN="Aversa PR & Events":http://phillytodo.com/profile/KoryAv
 ersa277
ATTACH;FMTTYPE="image/jpeg":
ATTENDEE;ROLE=REQ-PARTICIPANT;PARTSTAT=ACCEPTED;RSVP=TRUE;CN="Aversa P
 R & Events":http://phillytodo.com/profile/KoryAversa277
END:VEVENT
END:VCALENDAR
