BEGIN:VCALENDAR
PRODID:NingEventWidget-v1
VERSION:2.0
METHOD:PUBLISH
BEGIN:VEVENT
UID:4320450:Event:51105
DTSTAMP:20260425T114100Z
SUMMARY:Peter Pan
DESCRIPTION:Adapted for the Stage by Douglas IrvineFrom the books by J
 .M. BarrieDirected by Whit MacLaughlinOn the F. Otto Haas StageNovembe
 r 22 - January 28  Ever since J.M. Barrie's story first appeared in 
 1904, countless versions have been produced on stage and in film. Now,
  Arden Children's Theatre presents a brand-new production that celebra
 tes the joy of storytelling and the power of imagination.Join Peter on
  his adventure to Neverland, a magical island where there are no paren
 ts, no chores, and fairies and pirates rule! Introduce your children a
 nd grandchildren to the characters you loved from J.M. Barrie's timele
 ss masterpiece: Wendy Darling, Tinker Bell, Captain Hook, a horde of m
 ischievous Lost Boys, Nana the dog, and – last but not least – a v
 ery hungry, ticking crocodile.\n\nFor more information visit http://ph
 illytodo.com/events/peter-pan
DTSTART:20171122T150000Z
DTEND:20180128T210000Z
CATEGORIES:"children's", theatre, performing, arts
LOCATION:Arden Theatre Company
WEBSITE:http://www.ardentheatre.org/
URL:http://www.ardentheatre.org/
CONTACT:215.922.1122
ORGANIZER;CN="Arden Theatre Company":http://phillytodo.com/profile/Ard
 enTheatreCompany
ATTACH;FMTTYPE="image/jpeg":http://storage.ning.com/topology/rest/1.0/
 file/get/3055009750?profile=original
ATTENDEE;ROLE=REQ-PARTICIPANT;PARTSTAT=ACCEPTED;RSVP=TRUE;CN="Arden Th
 eatre Company":http://phillytodo.com/profile/ArdenTheatreCompany
END:VEVENT
END:VCALENDAR
