BEGIN:VCALENDAR
PRODID:NingEventWidget-v1
VERSION:2.0
METHOD:PUBLISH
BEGIN:VEVENT
UID:4320450:Event:42313
DTSTAMP:20260425T144330Z
SUMMARY:Peter Cetera at Valley Forge Music Fair
DESCRIPTION:Valley Forge Casino Resort (1160 First Avenue) welcomes Ch
 icago frontman and solo star Peter Cetera on Sunday, October 11, 2015 
 at 8:00pm (doors open 7:00pm) during Valley Forge Music Fair. Penning 
 and singing lead vocals on Chicago’s first No. 1 single “If You Le
 ave Me Now,” Cetera helped propelled the group into the worldwide sp
 otlight. The Grammy Award winning singer/songwriter will perform timel
 ess hits that helped him define an era of American rock music. Tickets
  are on sale for $45 to $75 on Ticketmaster.\n\nFor more information v
 isit http://phillytodo.com/events/peter-cetera-at-valley-forge-music-f
 air
DTSTART:20151012T000000Z
DTEND:20151012T020000Z
CATEGORIES:music, fair
LOCATION:Valley Forge Casino Resort
WEBSITE:https://vfcasino.com/events/peter-cetera-2/
URL:https://vfcasino.com/events/peter-cetera-2/
CONTACT:
ORGANIZER;CN="Aversa PR & Events":http://phillytodo.com/profile/KoryAv
 ersa277
ATTACH;FMTTYPE="image/jpeg":http://storage.ning.com/topology/rest/1.0/
 file/get/3054990592?profile=original
ATTENDEE;ROLE=REQ-PARTICIPANT;PARTSTAT=ACCEPTED;RSVP=TRUE;CN="Aversa P
 R & Events":http://phillytodo.com/profile/KoryAversa277
END:VEVENT
END:VCALENDAR
