BEGIN:VCALENDAR
PRODID:NingEventWidget-v1
VERSION:2.0
METHOD:PUBLISH
BEGIN:VEVENT
UID:4320450:Event:54002
DTSTAMP:20260425T125822Z
SUMMARY:Pet Photos with Santa
DESCRIPTION:Dress your pet for his close-up with the one and only Sant
 a Claus! Please note you may take your own photos or purchase a photo 
 package. *Dogs must be on a leash and cats must be in a carrier\n\nFor
  more information visit http://phillytodo.com/events/pet-photos-with-s
 anta-1
DTSTART:20171203T233000Z
DTEND:20171204T010000Z
CATEGORIES:holiday
LOCATION:Concord Mall
WEBSITE:https://www.concordmall.com
URL:https://www.concordmall.com
CONTACT:
ORGANIZER;CN=CashmanAssoc:http://phillytodo.com/profile/CashmanAssoc
ATTACH;FMTTYPE="image/jpeg":http://storage.ning.com/topology/rest/1.0/
 file/get/3055009460?profile=original
ATTENDEE;ROLE=REQ-PARTICIPANT;PARTSTAT=ACCEPTED;RSVP=TRUE;CN=CashmanAs
 soc:http://phillytodo.com/profile/CashmanAssoc
END:VEVENT
END:VCALENDAR
