BEGIN:VCALENDAR
PRODID:NingEventWidget-v1
VERSION:2.0
METHOD:PUBLISH
BEGIN:VEVENT
UID:4320450:Event:51009
DTSTAMP:20260425T142749Z
SUMMARY:Permaculture Workshop @ Greensgrow Farms
DESCRIPTION:Designing and maintaining your home garden through the len
 s of permaculture can transform any space into a simple response to th
 e environmental needs of our communities. Join our expert instructor, 
 Ari Rosenberg, at Greensgrow Farms for our Permaculture Workshop. Once
  we’ve dipped our toes into the fundamentals of permaculture and eco
 systems, Ari will help you build your own backyard conversion plan, in
 cluding a personalized perennial fruit and vegetable list, to give you
  all the knowledge you need to make your garden flourish sustainably.\
 n\n$15 registration required\nTo learn more and register: http://www.g
 reensgrow.org/event/permaculture-workshop/\n\nFor more information vis
 it http://phillytodo.com/events/permaculture-workshop-greensgrow-farms
DTSTART:20170923T160000Z
DTEND:20170923T180000Z
CATEGORIES:workshop
LOCATION:Greensgrow Farms
WEBSITE:http://www.greensgrow.org/event/permaculture-workshop/
URL:http://www.greensgrow.org/event/permaculture-workshop/
CONTACT:215-427-2702
ORGANIZER;CN="Greensgrow Farms":http://phillytodo.com/profile/Greensgr
 owFarms
ATTACH;FMTTYPE="image/jpeg":http://storage.ning.com/topology/rest/1.0/
 file/get/3055008070?profile=original
ATTENDEE;ROLE=REQ-PARTICIPANT;PARTSTAT=ACCEPTED;RSVP=TRUE;CN="Greensgr
 ow Farms":http://phillytodo.com/profile/GreensgrowFarms
END:VEVENT
END:VCALENDAR
