BEGIN:VCALENDAR
PRODID:NingEventWidget-v1
VERSION:2.0
METHOD:PUBLISH
BEGIN:VEVENT
UID:4320450:Event:37044
DTSTAMP:20260425T142626Z
SUMMARY:Permaculture Workshop: Building an  Herb Spiral
DESCRIPTION:Condense your sprawling herb garden into a simple spiral, 
 small enough to fit right outside your door. By building an herb spir
 al, you can create microclimates suitable to a wide range herbs in ju
 st a few feet. Learn practical construction methods, how to orient yo
 ur spiral to the sun, which plants to choose, and basic permaculture 
 principles. You’ll leave with the knowledge to build your own spira
 l and a seedling to help get you started.\n$18\nRegister online now!
 \n\nFor more information visit http://phillytodo.com/events/permacultu
 re-workshop-building-an-herb-spiral
DTSTART:20140621T140000Z
DTEND:20140621T153000Z
CATEGORIES:gardening, workshop
LOCATION:The Schuylkill Center for Environmental Education
WEBSITE:http://www.schuylkillcenter.org/
URL:http://www.schuylkillcenter.org/
CONTACT:12154827300
ORGANIZER;CN="The Schuylkill Center":http://phillytodo.com/profile/Ann
 aLehrMueser
ATTACH;FMTTYPE="image/jpeg":http://storage.ning.com/topology/rest/1.0/
 file/get/3054979711?profile=original
ATTENDEE;ROLE=REQ-PARTICIPANT;PARTSTAT=ACCEPTED;RSVP=TRUE;CN="The Schu
 ylkill Center":http://phillytodo.com/profile/AnnaLehrMueser
END:VEVENT
END:VCALENDAR
