BEGIN:VCALENDAR
PRODID:NingEventWidget-v1
VERSION:2.0
METHOD:PUBLISH
BEGIN:VEVENT
UID:4320450:Event:46534
DTSTAMP:20260425T132922Z
SUMMARY:Penny Preville Trunk Show in Somers Point
DESCRIPTION:Date: Friday, July 15th & Saturday, July 16th 2016\nLocati
 on: Somers Point (Flagship Store)507 New RoadSomers Point, NJ\nPenny P
 reville Trunk Show 507 New Road - Somers Point, NJ 08244Friday, July 
 15th: 11am - 7:30pm&Saturday, July 16th: 10am - 5:30pm\nExplore new ar
 rivals and never before seen designs & collections, all under one roof
  for one weekend only!\nCall for an appointment: 609.927.4848 and walk
 -ins welcome!\n\nFor more information visit http://phillytodo.com/even
 ts/penny-preville-trunk-show-in-somers-point
DTSTART:20160715T150000Z
DTEND:20160716T213000Z
CATEGORIES:trunk, show
LOCATION:Bernie Robbins Jewelers
WEBSITE:http://www.bernierobbins.com/eventdetails.cfm?page=penny-previ
 lle-trunk-show-in-somers-point
URL:http://www.bernierobbins.com/eventdetails.cfm?page=penny-preville-
 trunk-show-in-somers-point
CONTACT:609-927-4848
ORGANIZER;CN=CashmanAssoc:http://phillytodo.com/profile/CashmanAssoc
ATTACH;FMTTYPE="image/jpeg":http://storage.ning.com/topology/rest/1.0/
 file/get/3054995246?profile=original
ATTENDEE;ROLE=REQ-PARTICIPANT;PARTSTAT=ACCEPTED;RSVP=TRUE;CN=CashmanAs
 soc:http://phillytodo.com/profile/CashmanAssoc
END:VEVENT
END:VCALENDAR
