BEGIN:VCALENDAR
PRODID:NingEventWidget-v1
VERSION:2.0
METHOD:PUBLISH
BEGIN:VEVENT
UID:4320450:Event:36415
DTSTAMP:20260425T125826Z
SUMMARY:Pennsylvania Innocence Project 5th Anniversary Celebration
DESCRIPTION:The Pennsylvania Innocence Project (PaIP) celebrates its f
 irst five years of pursuing exonerations and freedom for the actually 
 innocent and advocating for reforms that prevent wrongful convictions.
  The celebration begins at 6:00 p.m. with a cocktail party catered by
  Jose Garces in the Second Floor Lounge featuring music by Standard Ti
 me Jazz. Enjoy wine and beer courtesy of Moore Brothers Wine and Yards
  Brewing Company and our fabulous silent auction. The evening continu
 es in the Perelman Theater at 7:00 p.m. with a program honoring, among
  others, Police Commissioner Charles Ramsey for his leadership in the 
 law enforcement community in adopting best investigative practices tha
 t protect the innocent from mistaken arrest and conviction. The cost 
 of eyewitness misidentification is on display in the documentary of th
 e case of Eugene Gilyard being developed by the Penn Program on Docume
 ntaries & the Law. A showing of the rough cut of the film will be foll
 owed by a discussion with Eugene who was freed in November 2013 after 
 15 years of imprisonment for a crime he did not commit. Our celebrati
 on concludes with a dessert reception at 8:00 p.m. in the Second Floor
  Lounge.General Admission $100 Public Defenders, Public Interest and 
 Government Attorneys $50 Contact: Michelle Meltzer, Bread & Butter Pr
 oductions (215) 605-2013\n\nFor more information visit http://phillyto
 do.com/events/pennsylvania-innocence-project-5th-anniversary-celebrati
 on
DTSTART:20140506T220000Z
DTEND:20140507T010000Z
CATEGORIES:anniversary, fundraiser, benefit
LOCATION:The Perelman Theater at the Kimmel Center
WEBSITE:http://www.kimmelcenter.org/events/index.php?id=4875
URL:http://www.kimmelcenter.org/events/index.php?id=4875
CONTACT:(215) 605-2013
ORGANIZER:Michelle Meltzer, Bread and Butter Productions
ATTACH;FMTTYPE="image/jpeg":http://storage.ning.com/topology/rest/1.0/
 file/get/3054973797?profile=original
ATTENDEE;ROLE=REQ-PARTICIPANT;PARTSTAT=ACCEPTED;RSVP=TRUE;CN="Bread an
 d Butter Productions":http://phillytodo.com/profile/BreadandButterProd
 uctions
END:VEVENT
END:VCALENDAR
