BEGIN:VCALENDAR
PRODID:NingEventWidget-v1
VERSION:2.0
METHOD:PUBLISH
BEGIN:VEVENT
UID:4320450:Event:59812
DTSTAMP:20260425T111559Z
SUMMARY:Penns Landing Indoor / Outdoor Vintage Flea Market
DESCRIPTION:Phila Flea Markets is sponsoring their after the holidays 
 Flea Market this Sat, Jan 11th and also Sat, Jan 18thIndoors and outdo
 ors at Penns Landing Caterers inside the Sheet Metal Workers Union Hal
 l1301 S. Columbus Blvd (Between Washington & Reed Streets) South Phila
 , 191478AM - 4PM but early birds are welcome!More than 75 vendors!Free
  parking / Free admission / ATM / Delicious Food Court / Handicap Acce
 ssiblewww.PhilaFlea Markets.org 215 - 625 - FLEA (3532)Watch for our n
 ew Indoor Bristol Flea Market opening the end of January at the former
  WalmartRt. 13 & 413 in Bristol, PA\n\nFor more information visit http
 ://phillytodo.com/events/penns-landing-indoor-outdoor-vintage-flea-mar
 ket
DTSTART:20200111T130000Z
DTEND:20200111T210000Z
CATEGORIES:flea, market
LOCATION:Penns Landing Caterers
WEBSITE:http://www.PhilaFleaMarkets.org
URL:http://www.PhilaFleaMarkets.org
CONTACT:215 - 625 - 3532
ORGANIZER;CN="Phila Flea Markets":http://phillytodo.com/profile/PhilaF
 leaMarkets
ATTACH;FMTTYPE="image/jpeg":https://storage.ning.com/topology/rest/1.0
 /file/get/3813036087?profile=original
ATTENDEE;ROLE=REQ-PARTICIPANT;PARTSTAT=ACCEPTED;RSVP=TRUE;CN="Phila Fl
 ea Markets":http://phillytodo.com/profile/PhilaFleaMarkets
END:VEVENT
END:VCALENDAR
