BEGIN:VCALENDAR
PRODID:NingEventWidget-v1
VERSION:2.0
METHOD:PUBLISH
BEGIN:VEVENT
UID:4320450:Event:53214
DTSTAMP:20260425T124039Z
SUMMARY:Penns Landing Indoor Antique &amp; Vintage Flea Market
DESCRIPTION:PHILA FLEA MARKETS HAS MOVED TO A NEW WINTER INDOOR VENUE\
 nPenns Landing Caterers Inside The Sheet Metal Works Union Building130
 1 S. Columbus Blvd.(Between Washington & Reed)South Phila, PA 19147\nM
 odern Heated Facility, Free Admission, ATM, Food Court, Handicap Acces
 sible, Ample Free Parking\nVendors Featuring Antique Furniture, Vintag
 e Jewelry & Clothing, Ephemera, Lighting, Primitives, Artwork and Much
  More!\nSunday, Dec 17th, 2017\nSaturday, Jan 13th, 2018\nSunday, Jan 
 21st, 2018\nSaturday, Feb 10th, 2018\nSaturday, March 17th, 2018\n8AM 
 til 4PM (Early Birds Welcome)\n215 - 625 - FLEA (3532)\nwww.PhilaFleaM
 arkets.org\n\nFor more information visit http://phillytodo.com/events/
 penns-landing-indoor-antique-amp-vintage-flea-market
DTSTART:20171217T130000Z
DTEND:20180317T200000Z
CATEGORIES:indoor, vintage, flea, market
LOCATION:Penns Landing Caterers Inside The Sheet Metal Workers Union B
 uilding
WEBSITE:http://www.PhilaFleaMarkets.org
URL:http://www.PhilaFleaMarkets.org
CONTACT:215 - 625 - 3532
ORGANIZER;CN="Phila Flea Markets":http://phillytodo.com/profile/PhilaF
 leaMarkets
ATTACH;FMTTYPE="image/jpeg":http://storage.ning.com/topology/rest/1.0/
 file/get/3055009506?profile=original
ATTENDEE;ROLE=REQ-PARTICIPANT;PARTSTAT=ACCEPTED;RSVP=TRUE;CN="Phila Fl
 ea Markets":http://phillytodo.com/profile/PhilaFleaMarkets
END:VEVENT
END:VCALENDAR
