BEGIN:VCALENDAR
PRODID:NingEventWidget-v1
VERSION:2.0
METHOD:PUBLISH
BEGIN:VEVENT
UID:4320450:Event:45157
DTSTAMP:20260425T143359Z
SUMMARY:Penn's Landing Wine Festival at Hilton Philadelphia
DESCRIPTION:Join us at Hilton Philadelphia at Penn’s Landing – Phi
 ladelphia’s only waterfront hotel for the Penn’s Landing Wine Fest
 ival on Friday, March 4th. Enjoy a perfectly paired combination of del
 ectable dishes from Keating’s River Grill and a selection of wines f
 rom Oregon’s Elk Cove Winery. Make your reservations today at 215-52
 1-6555, tastings begin at 7:00 p.m. and are limited to 55 seats.\nVisi
 t www.hiltonpennslanding.com for more details.\n\nFor more information
  visit http://phillytodo.com/events/penn-s-landing-wine-festival-at-hi
 lton-philadelphia
DTSTART:20160305T000000Z
DTEND:20160305T023000Z
CATEGORIES:wine, pairing
LOCATION:Hilton Penn's Landing
WEBSITE:http://www.hiltonpennslanding.com
URL:http://www.hiltonpennslanding.com
CONTACT:2155216555
ORGANIZER:Hilton Penn
ATTACH;FMTTYPE="image/jpeg":
ATTENDEE;ROLE=REQ-PARTICIPANT;PARTSTAT=ACCEPTED;RSVP=TRUE;CN="Bryan Ch
 an":http://phillytodo.com/profile/BryanChan
END:VEVENT
END:VCALENDAR
