BEGIN:VCALENDAR
PRODID:NingEventWidget-v1
VERSION:2.0
METHOD:PUBLISH
BEGIN:VEVENT
UID:4320450:Event:44986
DTSTAMP:20260425T145013Z
SUMMARY:Penn's Landing Wine Festival at Hilton Philadelphia
DESCRIPTION:Join us at Hilton Philadelphia at Penn’s Landing – Phi
 ladelphia’s only waterfront hotel for the Penn’s Landing Wine Fest
 ival on Tuesday, March 22nd. Enjoy a perfectly paired combination of d
 electable dishes from Keating’s River Grill and a selection of wines
  from California’s Silver Oak Cellars. Also making an appearance wil
 l be Silver Oak Cellars’ director of winemaking, Daniel Baron. An ex
 ceptionally exclusive event for this region, this will be the first an
 d only opportunity to meet the winemaker as Baron will retire later th
 is year. Make your reservations today at 215-521-6555, tastings begin 
 at 7:00 p.m. and are limited to 55 seats.\nVisit www.hiltonpennslandin
 g.com for more details.\n\nFor more information visit http://phillytod
 o.com/events/penn-s-landing-wine-festival-at-hilton-philadelphia-1
DTSTART:20160322T230000Z
DTEND:20160323T013000Z
CATEGORIES:wine, pairing
LOCATION:Hilton Philadelphia at Penn's Landing
WEBSITE:
URL:
CONTACT:2155216555
ORGANIZER:
ATTACH;FMTTYPE="image/jpeg":
ATTENDEE;ROLE=REQ-PARTICIPANT;PARTSTAT=ACCEPTED;RSVP=TRUE;CN="Bryan Ch
 an":http://phillytodo.com/profile/BryanChan
END:VEVENT
END:VCALENDAR
