BEGIN:VCALENDAR
PRODID:NingEventWidget-v1
VERSION:2.0
METHOD:PUBLISH
BEGIN:VEVENT
UID:4320450:Event:33404
DTSTAMP:20260425T160759Z
SUMMARY:Pen & Ink Workshop
DESCRIPTION:Pen & Ink Workshop\n July 27, 2-5pm\nLead by Sophie Ellio
 t (sophiaelliot.blogspot.com)\n$15 per person - Ages 13 and up\n\nIn t
 his workshop you will learn how to transfer black and white images ont
 o watercolor paper and how to use different pen and ink techniques to 
 give images texture and depth. The finished product will be a collage 
 of images representing each ink technique.\n\nAll supplies included.\n
 \nBio: I am a freelance artist who works in pen and ink as well as mix
 ed media. My inspiration for all my work is nature and living things. 
 I focus on detail and  the beauty of subtle intricacies. \n\nPlease 
 sign up by the 26th by calling 215. 360. 5548, or email squarepegarter
 y.com\n\nFor more information visit http://phillytodo.com/events/pen-i
 nk-workshop
DTSTART:20130727T180000Z
DTEND:20130727T210000Z
CATEGORIES:workshop
LOCATION:Square Peg Artery & Salvage
WEBSITE:http://2527 Frankford Ave
URL:http://2527 Frankford Ave
CONTACT:215.360.5548
ORGANIZER;CN="Square Peg Artery & Salvage":http://phillytodo.com/profi
 le/SquarePegArterySalvage
ATTACH;FMTTYPE="image/jpeg":http://storage.ning.com/topology/rest/1.0/
 file/get/3054967101?profile=original
ATTENDEE;ROLE=REQ-PARTICIPANT;PARTSTAT=ACCEPTED;RSVP=TRUE;CN="Square P
 eg Artery & Salvage":http://phillytodo.com/profile/SquarePegArterySalv
 age
END:VEVENT
END:VCALENDAR
