BEGIN:VCALENDAR
PRODID:NingEventWidget-v1
VERSION:2.0
METHOD:PUBLISH
BEGIN:VEVENT
UID:4320450:Event:36701
DTSTAMP:20260425T144251Z
SUMMARY:Peace on the Streets
DESCRIPTION:Hosted by POWER 99, this event is a party with a purpose. 
 The annual Peace on the Street Jams serve to bring national artists to
 gether with community resources and speakers to promote a peaceful sum
 mer season. The event will provide information about how communities c
 an stop violence and increase peace. Talent TBA.\n\nFor more informati
 on visit http://phillytodo.com/events/peace-on-the-streets
DTSTART:20140626T190000Z
DTEND:20140627T000000Z
CATEGORIES:music, waterfront
LOCATION:Great Plaza at Penn's Landing
WEBSITE:http://www.delawareriverwaterfront.com/events/peace-on-the-str
 eets-2
URL:http://www.delawareriverwaterfront.com/events/peace-on-the-streets
 -2
CONTACT:215-922-2386
ORGANIZER;CN="Delaware River Waterfront Corp.":http://phillytodo.com/p
 rofile/DelawareRiverWaterfrontCorp
ATTACH;FMTTYPE="image/jpeg":http://storage.ning.com/topology/rest/1.0/
 file/get/3054974971?profile=original
ATTENDEE;ROLE=REQ-PARTICIPANT;PARTSTAT=ACCEPTED;RSVP=TRUE;CN="Delaware
  River Waterfront Corp.":http://phillytodo.com/profile/DelawareRiverWa
 terfrontCorp
END:VEVENT
END:VCALENDAR
