BEGIN:VCALENDAR
PRODID:NingEventWidget-v1
VERSION:2.0
METHOD:PUBLISH
BEGIN:VEVENT
UID:4320450:Event:35679
DTSTAMP:20260425T144620Z
SUMMARY:Paula Cole at Candlelight Concerts for Epilepsy Awareness
DESCRIPTION:A VERY unique night as part of Candlelight Concerts for Ep
 ilepsy Awareness with Paula Cole. 1998's Grammy winner for Best New Ar
 tist among other things - Where Have All The Cowboys Gone, I Don't Wan
 t To Wait, amazing!! Plus she'll have a new record out this very week 
 entitled Raven. Such a fantastic talent and a thrill to have her perfo
 rming for epilepsy awareness.Join us for a great night of music for a 
 great cause - spreading facts and raising awareness for epilepsy. Sure
 ly not to miss. Tickets are only $30 in advance and $35 at the door!!D
 oors at 7:00pmSpecial opening act: Emily Grove\n\nFor more information
  visit http://phillytodo.com/events/paula-cole-at-candlelight-concerts
 -for-epilepsy-awareness
DTSTART:20140427T230000Z
DTEND:20140428T020000Z
CATEGORIES:charity, concert
LOCATION:Trinity UMC
WEBSITE:http://www.candlelightconcert.org
URL:http://www.candlelightconcert.org
CONTACT:
ORGANIZER;CN="Eric Miller":http://phillytodo.com/profile/EricMiller
ATTACH;FMTTYPE="image/jpeg":http://storage.ning.com/topology/rest/1.0/
 file/get/3054973405?profile=original
ATTENDEE;ROLE=REQ-PARTICIPANT;PARTSTAT=ACCEPTED;RSVP=TRUE;CN="Eric Mil
 ler":http://phillytodo.com/profile/EricMiller
END:VEVENT
END:VCALENDAR
