BEGIN:VCALENDAR
PRODID:NingEventWidget-v1
VERSION:2.0
METHOD:PUBLISH
BEGIN:VEVENT
UID:4320450:Event:2530
DTSTAMP:20260425T142550Z
SUMMARY:Past, Present and Future Forever
DESCRIPTION:This new mural honoring neighborhood traditions was create
 d by lead muralist Parris Stancell wtih assistance from men and women 
 in Mural Arts' The Guild Program. Sponsored by the U.S. Department of 
 Justice through the competitive Byrne grants.\n\nFor more information 
 visit http://phillytodo.com/events/past-present-and-future
DTSTART:20101007T203000Z
DTEND:20101007T213000Z
CATEGORIES:mural, dedication
LOCATION:52nd & Chancellor Streets
WEBSITE:
URL:
CONTACT:
ORGANIZER;CN="Jenn McCreary":http://phillytodo.com/profile/JennMcCrear
 y
ATTACH;FMTTYPE="image/jpeg":
ATTENDEE;ROLE=REQ-PARTICIPANT;PARTSTAT=ACCEPTED;RSVP=TRUE;CN="Jenn McC
 reary":http://phillytodo.com/profile/JennMcCreary
END:VEVENT
END:VCALENDAR
