BEGIN:VCALENDAR
PRODID:NingEventWidget-v1
VERSION:2.0
METHOD:PUBLISH
BEGIN:VEVENT
UID:4320450:Event:34176
DTSTAMP:20260425T155736Z
SUMMARY:Parx Oktoberfest 5K Run to Benefit Foundation for Breast and P
 rostate Health
DESCRIPTION:Join Parx Casino® & Parx Racing® at their second annual 
 Octoberfest 5K Run to benefit the Foundation for Breast and Prostate H
 ealth (FBPH). Run on the legendary Pennsylvania racetrack on Saturday
 , October 12, 2013 for a truly meaningful cause.\n \nRegistration fo
 r the 5K and Fun Mile Walk can be completed online at runtheday.com/r
 egistration/race_info/13284 or on-site the day of the race beginning 
 at 8AM.\n\nFor more information visit http://phillytodo.com/events/pa
 rx-oktoberfest-5k-run-to-benefit-foundation-for-breast-and
DTSTART:20131012T040000Z
DTEND:20131013T035900Z
CATEGORIES:5k
LOCATION:Parx Casino and Racetrack
WEBSITE:
URL:
CONTACT:
ORGANIZER;CN=CashmanAssoc:http://phillytodo.com/profile/CashmanAssoc
ATTACH;FMTTYPE="image/jpeg":
ATTENDEE;ROLE=REQ-PARTICIPANT;PARTSTAT=ACCEPTED;RSVP=TRUE;CN=CashmanAs
 soc:http://phillytodo.com/profile/CashmanAssoc
END:VEVENT
END:VCALENDAR
