BEGIN:VCALENDAR
PRODID:NingEventWidget-v1
VERSION:2.0
METHOD:PUBLISH
BEGIN:VEVENT
UID:4320450:Event:40859
DTSTAMP:20260425T144720Z
SUMMARY:Party in the Playground at Smith Memorial Playground
DESCRIPTION:Embrace your inner kid and join us for Smith Memorial Play
 ground and Playhouseâ€™s eighth annual adults-only cocktail party, Par
 ty in the Playground! While enjoying tasty cocktails and snacks from p
 opular local food trucks, help raise the funds needed to keep the admi
 ssion to Smith free and support programs that use the power of play to
  help develop healthy children, strong families and safe communities!\
 nÂ \nAppetizing food truck fun includes: Schmear It, Heart Food Truck,
  Jerryâ€™s Kitchen, and Dos Hermanos Tacos. Drinks provided by Jerryâ€
 ™s Bar, Origlio Beverage, Malt House, LTD and Moore Brothers Wine. Enj
 oy live music and snag awesome items at the silent auction before the 
 playground party culminates with the presentation of the 2015 Ida Newm
 an Magic of Play Award to Philadelphia Eaglesâ€™ linebacker Connor Bar
 win and his foundation MTWB.\nÂ Â Â Â Â Â Â Â Â \nDance, play, dine an
 d sip your way through this evening of fun at Smith Memorial Playgroun
 d!\n\nFor more information visit http://phillytodo.com/events/party-in
 -the-playground-at-smith-memorial-playground
DTSTART:20150513T220000Z
DTEND:20150514T000000Z
CATEGORIES:fundraiser, party
LOCATION:Smith Memorial Playground and Playhouse
WEBSITE:http://www.smithplayground.org/pip15
URL:http://www.smithplayground.org/pip15
CONTACT:215.765.4325 x101
ORGANIZER:Smith Memorial Playground and Playhouse
ATTACH;FMTTYPE="image/jpeg":http://storage.ning.com/topology/rest/1.0/
 file/get/3054988522?profile=original
ATTENDEE;ROLE=REQ-PARTICIPANT;PARTSTAT=ACCEPTED;RSVP=TRUE;CN=CashmanAs
 soc:http://phillytodo.com/profile/CashmanAssoc
END:VEVENT
END:VCALENDAR
