BEGIN:VCALENDAR
PRODID:NingEventWidget-v1
VERSION:2.0
METHOD:PUBLISH
BEGIN:VEVENT
UID:4320450:Event:46903
DTSTAMP:20260425T132529Z
SUMMARY:Papermaking with Plants!
DESCRIPTION:Nicole Donnelly, founder of paperTHINKtank will be teachin
 g you the process of making paper by hand, start to finish, beginning 
 with our raw materials: plant waste collected from Greensgrow! We will
  learn how to process the plant material so they can be transformed in
 to paper pulp, and then learn how to form sheets of handmade paper wit
 h a Western style mould and deckle. Beginners and the experienced are 
 both encouraged to participate. - See more at: http://www.greensgrow.o
 rg/event/papermaking-with-plants/#sthash.xU5CaeLv.dpuf\n\nFor more inf
 ormation visit http://phillytodo.com/events/papermaking-with-plants
DTSTART:20161008T160000Z
DTEND:20161008T180000Z
CATEGORIES:workshop
LOCATION:Greensgrow Farm
WEBSITE:http://www.greensgrow.org/event/papermaking-with-plants/
URL:http://www.greensgrow.org/event/papermaking-with-plants/
CONTACT:(215) 427-2702
ORGANIZER;CN="Greensgrow Farms":http://phillytodo.com/profile/Greensgr
 owFarms
ATTACH;FMTTYPE="image/jpeg":http://storage.ning.com/topology/rest/1.0/
 file/get/3054996957?profile=original
ATTENDEE;ROLE=REQ-PARTICIPANT;PARTSTAT=ACCEPTED;RSVP=TRUE;CN="Greensgr
 ow Farms":http://phillytodo.com/profile/GreensgrowFarms
END:VEVENT
END:VCALENDAR
