BEGIN:VCALENDAR
PRODID:NingEventWidget-v1
VERSION:2.0
METHOD:PUBLISH
BEGIN:VEVENT
UID:4320450:Event:53112
DTSTAMP:20260425T160116Z
SUMMARY:Papermaking with Plants
DESCRIPTION:Registration Required. Join our expert papermaker Nicole D
 onnelly to learn how to make paper by hand, start to finish, beginning
  with plants from Greensgrow Farms! We will learn various terms associ
 ated with Western papermaking, how to test plants for good fiber quali
 ty, and cover best practices for sustainable plant harvesting and plan
 t-papermaking.\n\nRegister & more info: http://www.greensgrow.org/even
 t/papermaking-with-plants-2/\nContact: nursery@greensgrow.org\nLocatio
 n: Greensgrow Farms, 2501 East Cumberland Street\n\nFor more informati
 on visit http://phillytodo.com/events/papermaking-with-plants-1
DTSTART:20171209T170000Z
DTEND:20171209T190000Z
CATEGORIES:"workshop/class"
LOCATION:Greensgrow Farms
WEBSITE:http://www.greensgrow.org/event/papermaking-with-plants-2/
URL:http://www.greensgrow.org/event/papermaking-with-plants-2/
CONTACT:215.427.2780 ext. 6
ORGANIZER;CN="Greensgrow Farms":http://phillytodo.com/profile/Greensgr
 owFarms
ATTACH;FMTTYPE="image/jpeg":http://storage.ning.com/topology/rest/1.0/
 file/get/3054996957?profile=original
ATTENDEE;ROLE=REQ-PARTICIPANT;PARTSTAT=ACCEPTED;RSVP=TRUE;CN="Greensgr
 ow Farms":http://phillytodo.com/profile/GreensgrowFarms
END:VEVENT
END:VCALENDAR
