BEGIN:VCALENDAR
PRODID:NingEventWidget-v1
VERSION:2.0
METHOD:PUBLISH
BEGIN:VEVENT
UID:4320450:Event:41804
DTSTAMP:20260425T144240Z
SUMMARY:Paoli Blues Fest
DESCRIPTION:Enjoy a day eating, shopping, and dancing those blues away
  at the 2015 Paoli Blues Fest and Street Fair!! From noon to 6PM (warm
 -up at 11:15) on Saturday, October 3rd listen to the most renowned Blu
 es Bands while shopping through a variety of hidden gems at our street
  vendors, and eating delicious foods prepared fresh and ready to eat! 
 This event is perfect for ages, so come with friends or the whole fami
 ly! The possibilities are endless and it’s sure to be a day to remem
 ber!\nWhat’s Happening\n\nFrom Noon till 6pm the Main Stage Blues Co
 ncert will have 6 Blues Bands with leading names in the Blues Communit
 y. Warm-up Music starts at 11:15am.\n\n\nAll FREE – Rain or Shine!\n
 \n\nPlus! A Street Fair for family fun with food, kids’ activities, 
 street entertainers, as well as vendors, massages and dancing.\n\n\nMu
 sic schedule and vendor listings coming soon!\nClick HERE http://www.p
 aolibluesfest.com/ for more information! \n\nFor more information vis
 it http://phillytodo.com/events/paoli-blues-fest
DTSTART:20151003T160000Z
DTEND:20151003T220000Z
CATEGORIES:festival
LOCATION:Paoli Plaza
WEBSITE:http://www.paolibluesfest.com/
URL:http://www.paolibluesfest.com/
CONTACT:
ORGANIZER;CN="UpcomingEvents.com":http://phillytodo.com/profile/Upcomi
 ngEventscom
ATTACH;FMTTYPE="image/jpeg":http://storage.ning.com/topology/rest/1.0/
 file/get/3054990432?profile=original
ATTENDEE;ROLE=REQ-PARTICIPANT;PARTSTAT=ACCEPTED;RSVP=TRUE;CN="Upcoming
 Events.com":http://phillytodo.com/profile/UpcomingEventscom
END:VEVENT
END:VCALENDAR
