BEGIN:VCALENDAR
PRODID:NingEventWidget-v1
VERSION:2.0
METHOD:PUBLISH
BEGIN:VEVENT
UID:4320450:Event:55031
DTSTAMP:20260425T125349Z
SUMMARY:Panel Discussion – Vast and Vanishing: Art and Science Persp
 ectives on Climate Change
DESCRIPTION:In conjunction with the exhibition Vast and Vanishing at
  Rowan University Art Gallery, artist Diane Burko presents her work th
 at intersects art and science around the issue of climate change. This
  presentation will be followed by a panel discussion moderated by Dr. 
 Kenneth Lacovara, Dean of the School of Earth & Environment along with
  Dr. Luke Trusel, Assistant Professor in the Department of Geology, an
 d Dr. Kate Marvel, Research Scientist at Columbia University and NASA 
 Goddard Institute of Space Studies. Following the discussion there wil
 l be a reception in Eynon Ballroom with light refreshments.\n\nFor mor
 e information visit http://phillytodo.com/events/panel-discussion-vast
 -and-vanishing-art-and-science-perspectives
DTSTART:20180405T200000Z
DTEND:20180405T220000Z
CATEGORIES:panel, discussion
LOCATION:Rowan University Chamberlain Student Center
WEBSITE:https://www.google.com/maps/place/Chamberlain+Student+Center/@
 39.7086875,-75.1200524,17z/data=!4m12!1m6!3m5!1s0x89c6d7a8f36d62f9:0x4
 4173aede632ae57!2sChamberlain+Student+Center!8m2!3d39.7086834!4d-75.11
 78584!3m4!1s0x89c6d7a8f36d62f9:0x44173aede632ae57!8m2!3d39.7086834!4d-
 75.1178584
URL:https://www.google.com/maps/place/Chamberlain+Student+Center/@39.7
 086875,-75.1200524,17z/data=!4m12!1m6!3m5!1s0x89c6d7a8f36d62f9:0x44173
 aede632ae57!2sChamberlain+Student+Center!8m2!3d39.7086834!4d-75.117858
 4!3m4!1s0x89c6d7a8f36d62f9:0x44173aede632ae57!8m2!3d39.7086834!4d-75.1
 178584
CONTACT:
ORGANIZER;CN="mary salvante":http://phillytodo.com/profile/marysalvant
 e
ATTACH;FMTTYPE="image/jpeg":http://storage.ning.com/topology/rest/1.0/
 file/get/3055011264?profile=original
ATTENDEE;ROLE=REQ-PARTICIPANT;PARTSTAT=ACCEPTED;RSVP=TRUE;CN="mary sal
 vante":http://phillytodo.com/profile/marysalvante
END:VEVENT
END:VCALENDAR
