BEGIN:VCALENDAR
PRODID:NingEventWidget-v1
VERSION:2.0
METHOD:PUBLISH
BEGIN:VEVENT
UID:4320450:Event:39946
DTSTAMP:20260425T142755Z
SUMMARY:Palladino's Super Bowl Party
DESCRIPTION:East Passyunk’s newest restaurant hosts their first Supe
 r Bowl Party with food and drink specials and new menu additions at th
 e bar at Palladino’s on Passyunk (1934 E. Passyunk Ave) on Sunday, F
 ebruary 1, 2015 from 6:00pm to 11:00pm. Catch the game (with sound) on
  our killer 60\" HD TVs and enjoy our exclusive drink specials, includ
 ing a complimentary Spaghetti Western shot for everyone at the bar at 
 the start of half time, $4 Peroni drafts and $9 blood orange screwdriv
 ers. Game-time food specials include potato skins, calamari, pizzatas 
 and short rib stuffed potatoes.  For more information, visit http://w
 ww.lukepalladino.com/Palladinos/home.html, call 267.928.4339 or follow
  @palladinosepx.\n\nFor more information visit http://phillytodo.com/e
 vents/palladino-s-super-bowl-party
DTSTART:20150201T230000Z
DTEND:20150202T040000Z
CATEGORIES:super, bowl, party
LOCATION:Palladino's on Passyunk
WEBSITE:http://www.lukepalladino.com/Palladinos/home.html
URL:http://www.lukepalladino.com/Palladinos/home.html
CONTACT:267-928-4339
ORGANIZER:Palladino's on Passyunk
ATTACH;FMTTYPE="image/jpeg":http://storage.ning.com/topology/rest/1.0/
 file/get/3054987594?profile=original
ATTENDEE;ROLE=REQ-PARTICIPANT;PARTSTAT=ACCEPTED;RSVP=TRUE;CN="Aversa P
 R & Events":http://phillytodo.com/profile/KoryAversa277
END:VEVENT
END:VCALENDAR
