BEGIN:VCALENDAR
PRODID:NingEventWidget-v1
VERSION:2.0
METHOD:PUBLISH
BEGIN:VEVENT
UID:4320450:Event:35252
DTSTAMP:20260425T144334Z
SUMMARY:Paint Nite at Le Viet
DESCRIPTION:A blank canvas awaits you at Le Viet. Enjoy a night mingli
 ng and having fun with friends! You just need to bring your inner arti
 stic creativity. Your ticket includes all the supplies you will need t
 o create your masterpiece. Le Viet's bar and kitchen will be open for 
 service. Get a taste of Le Viet while expressing your artistic self. P
 ainting is always better once you've had a chance to unwind with a dri
 nk from the bar! Use promotion code \"Apcard50V\" before December 31 t
 o get 50% off your ticket price. Space is limited, sign up now! This e
 vent begins promptly at 7:00pm. Please allow extra time to find parkin
 g. If you would like to have seats together with your friends, please 
 plan to be at the location by 6:45 at the latest. You will need time t
 o get settled, get your supplies and grab a drink.\n$45, 21+\n\nFor mo
 re information visit http://phillytodo.com/events/paint-nite-at-le-vie
 t
DTSTART:20140108T000000Z
DTEND:20140108T020000Z
CATEGORIES:date, night, painting, social
LOCATION:Le Viet
WEBSITE:http://paintnite.com/pages/events/view/philadelphia/816255
URL:http://paintnite.com/pages/events/view/philadelphia/816255
CONTACT:215.463.1570
ORGANIZER:
ATTACH;FMTTYPE="image/jpeg":http://storage.ning.com/topology/rest/1.0/
 file/get/3054968383?profile=original
ATTENDEE;ROLE=REQ-PARTICIPANT;PARTSTAT=ACCEPTED;RSVP=TRUE;CN="Tina Bre
 slow":http://phillytodo.com/profile/TinaBreslow
END:VEVENT
END:VCALENDAR
