BEGIN:VCALENDAR
PRODID:NingEventWidget-v1
VERSION:2.0
METHOD:PUBLISH
BEGIN:VEVENT
UID:4320450:Event:1050
DTSTAMP:20260425T142553Z
SUMMARY:Paddy Whacks
DESCRIPTION:The Second Street Irish Society Pipes and Drums will be st
 opping at Paddy Whacks for a short performance to help celebrate St. P
 atrick's Day\n\nFor more information visit http://phillytodo.com/event
 s/paddy-whacks
DTSTART:20100317T224500Z
DTEND:20100317T231500Z
CATEGORIES:performance
LOCATION:Paddy Whacks
WEBSITE:
URL:
CONTACT:
ORGANIZER:Second Street Irish Society Pipes and Drums
ATTACH;FMTTYPE="image/jpeg":
ATTENDEE;ROLE=REQ-PARTICIPANT;PARTSTAT=ACCEPTED;RSVP=TRUE;CN="Second S
 treet Irish Society":http://phillytodo.com/profile/SecondstreetIrishso
 ciety
END:VEVENT
END:VCALENDAR
