BEGIN:VCALENDAR
PRODID:NingEventWidget-v1
VERSION:2.0
METHOD:PUBLISH
BEGIN:VEVENT
UID:4320450:Event:1157
DTSTAMP:20260425T142620Z
SUMMARY:Pacquiao VS Clottey Fight
DESCRIPTION:Fight Night is the Right Night to be at Delilah's !!! Toni
 ght... keep out of the rain and party with The World's Most Beautiful 
 Showgirls and catch the Pacquiao VS Clottey Fight!!\n\nFor more inform
 ation visit http://phillytodo.com/events/pacquiao-vs-clottey-fight
DTSTART:20100313T230000Z
DTEND:20100314T180000Z
CATEGORIES:party
LOCATION:Delilah's The Gentlemen'sClub & Steakhouse
WEBSITE:http://delilahs.com
URL:http://delilahs.com
CONTACT:215-625-2500
ORGANIZER;CN="Buffy Varanese":http://phillytodo.com/profile/BuffyVaran
 ese
ATTACH;FMTTYPE="image/jpeg":http://storage.ning.com/topology/rest/1.0/
 file/get/3054946406?profile=original
ATTENDEE;ROLE=REQ-PARTICIPANT;PARTSTAT=ACCEPTED;RSVP=TRUE;CN="Buffy Va
 ranese":http://phillytodo.com/profile/BuffyVaranese
END:VEVENT
END:VCALENDAR
