BEGIN:VCALENDAR
PRODID:NingEventWidget-v1
VERSION:2.0
METHOD:PUBLISH
BEGIN:VEVENT
UID:4320450:Event:33327
DTSTAMP:20260425T142630Z
SUMMARY:PACHANGA VAGABUNDA
DESCRIPTION:\n\nPARTYPLANT\n¡¡¡PACHANGA VAGABUNDA!!!\nExperience th
 e first of many traveling dinner and dance parties presented by Cafe C
 hismosa & PARTYPLANT. ¡¡¡PACHANGAVAGABUNDA!!! was built to acce
 ntuate Philly's unique culture of dance, music, & amazing food and wil
 l be hosted in unique urban spaces throughout the city.\nIndulge in ou
 r All-You-Can-Eat Parrillada (Latin infused BBQ) from 4pm - 8pm by p
 urchasing a  \"PARRILLADA\" pass for $28. Stuff yourself to the brim
  with deliciously grilled ditties, and complimentary homemade Sangria
 (included). Dinnertime DJ's and outdoor activities will keep your sen
 ses aroused while you dine within the courtyard walls of the Reanimato
 r Coffee Roastery.\nSee menu below and be sure to bring your appetite 
 and your own bottle (BYOB):\nFROM THE GRILL:\n\nMarinated skirt steak 
 & avocado chimichurri\nAncho BBQ braised short rib albondigas\nTajin
  spiced chicken wings\nCrispy pork belly tacos\nFish & Shrimp tacos\n
 \nPIKI PIKI & SIDES\n\nCeviche\nGuacamole\nGrilled corn Mexican style 
 dipped in a spicy aioli & covered in cotija cheese\nGrilled vegetable 
 salad-nopales, chayote, mushrooms & onions\nGrilled Scallions\nCreamy 
 jalapeno slaw\nChipotle black beans\nChismosa’s signature salsas & h
 ot sauces\n\nAlso included with Dinner Guests:\nGREG’S “KICK YOU 
 IN THE ASS” SANGRIA\n \nIf you don't feel like grubbin' and still 
 want to be apart of the action, purchase the \"PACHANGA\" pass and for
  $10 you get a cup at the door for keg-beer throughout the evening. 
 DJs and musical entertainment provided by these fine gems:\nNICKODEMUS
 \nWonderwheel Records/ESL Music NYC\n \nMAGIC MESSAGE DJs\n \nDJ JUI
 CE - aka DJ Jugo\n \nLINZ&MARS\n \nDJ ELEET\nSee ya there!\n \n-P
 P\n\n \n\n\n\n\n\n\n\n\n\nFor more information visit http://phillytod
 o.com/events/pachanga-vagabunda
DTSTART:20130803T200000Z
DTEND:20130804T060000Z
CATEGORIES:"dinner/dance", party
LOCATION:REANIMATOR COFFEE ROASTERY WAREHOUSE: 39.976486,-75.13737 (in
  google maps)
WEBSITE:http://bit.ly/1cJ99AG
URL:http://bit.ly/1cJ99AG
CONTACT:
ORGANIZER;CN="PARTYPLANT @prtyplnt":http://phillytodo.com/profile/PART
 YPLANT
ATTACH;FMTTYPE="image/jpeg":http://storage.ning.com/topology/rest/1.0/
 file/get/3054967402?profile=original
ATTENDEE;ROLE=REQ-PARTICIPANT;PARTSTAT=ACCEPTED;RSVP=TRUE;CN="PARTYPLA
 NT @prtyplnt":http://phillytodo.com/profile/PARTYPLANT
END:VEVENT
END:VCALENDAR
