BEGIN:VCALENDAR
PRODID:NingEventWidget-v1
VERSION:2.0
METHOD:PUBLISH
BEGIN:VEVENT
UID:4320450:Event:49508
DTSTAMP:20260425T125759Z
SUMMARY:P’unk Burger’s 2nd Birthday
DESCRIPTION:Celebrate P’unk Burger’s (1823 Passyunk Ave) second bi
 rthday with shake giveaways, food specials and more on Friday, Februar
 y 10, 2017. From 5:00pm to 7:00pm, customers will enjoy a free limited
  edition Yard's Chocolate Love Stout milkshake featuring signature cup
 cakes from Sweet Box with Yard's stout baked inside. For Mini-Moos and
  those that prefer non-alcoholic shakes, P'unk Burger will also offer 
 a \"Birthday Cake Shake\" option with buttercream, candy pieces and ca
 ke batter ice cream. Shakes are one per person, from 5:00pm to 7:00pm.
  Dine-in only. During the celebration, all organic build-your-own beef
  burgers will be $5.00 each and fries will be discounted to $1.00.  A
 ll other items are one dollar off during the party. For more informati
 on about P’unk Burger, visit www.punkburger.com.\n\nFor more informa
 tion visit http://phillytodo.com/events/p-unk-burger-s-2nd-birthday
DTSTART:20170210T220000Z
DTEND:20170211T000000Z
CATEGORIES:birthday, party
LOCATION:P’unk Burger
WEBSITE:http://punkburger.com/
URL:http://punkburger.com/
CONTACT:215-468-PUNK (7865)
ORGANIZER:P'unk Burger
ATTACH;FMTTYPE="image/jpeg":http://storage.ning.com/topology/rest/1.0/
 file/get/3055003447?profile=original
ATTENDEE;ROLE=REQ-PARTICIPANT;PARTSTAT=ACCEPTED;RSVP=TRUE;CN="Aversa P
 R & Events":http://phillytodo.com/profile/KoryAversa277
END:VEVENT
END:VCALENDAR
