BEGIN:VCALENDAR
PRODID:NingEventWidget-v1
VERSION:2.0
METHOD:PUBLISH
BEGIN:VEVENT
UID:4320450:Event:41403
DTSTAMP:20260425T124921Z
SUMMARY:Oyster Shucking Workshop
DESCRIPTION:See more info and register here: http://www.greensgrow.org
 /event/oyster-shucking-workshop/\n\nFor more information visit http://
 phillytodo.com/events/oyster-shucking-workshop
DTSTART:20151107T170000Z
DTEND:20151107T190000Z
CATEGORIES:workshop
LOCATION:Greensgrow Community Kitchen at St. Michael's Lutheran Church
WEBSITE:http://www.greensgrow.org/
URL:http://www.greensgrow.org/
CONTACT:267.283.6787
ORGANIZER;CN="Greensgrow Farms":http://phillytodo.com/profile/Greensgr
 owFarms
ATTACH;FMTTYPE="image/jpeg":
ATTENDEE;ROLE=REQ-PARTICIPANT;PARTSTAT=ACCEPTED;RSVP=TRUE;CN="Greensgr
 ow Farms":http://phillytodo.com/profile/GreensgrowFarms
END:VEVENT
END:VCALENDAR
