BEGIN:VCALENDAR
PRODID:NingEventWidget-v1
VERSION:2.0
METHOD:PUBLISH
BEGIN:VEVENT
UID:4320450:Event:38767
DTSTAMP:20260425T124845Z
SUMMARY:Owl Prowl
DESCRIPTION:Take part in a special evening exploration as we listen fo
 r the elusive hoots of the owl.  Before we walk under the stars, you 
 will have a chance to meet our rehabilitated screech and great horned 
 owls and learn about some of the physical and behavioral characteristi
 cs that make owls exceptional hunters in the night forest.\n$10\n\nFor
  more information visit http://phillytodo.com/events/owl-prowl
DTSTART:20150117T230000Z
DTEND:20150118T010000Z
CATEGORIES:night, hike, and, live, animal, show
LOCATION:The Schuylkill Center for Environmental Education
WEBSITE:http://www.schuylkillcenter.org/
URL:http://www.schuylkillcenter.org/
CONTACT:215-482-7300, x110
ORGANIZER;CN="The Schuylkill Center":http://phillytodo.com/profile/Ann
 aLehrMueser
ATTACH;FMTTYPE="image/jpeg":http://storage.ning.com/topology/rest/1.0/
 file/get/3054981656?profile=original
ATTENDEE;ROLE=REQ-PARTICIPANT;PARTSTAT=ACCEPTED;RSVP=TRUE;CN="The Schu
 ylkill Center":http://phillytodo.com/profile/AnnaLehrMueser
END:VEVENT
END:VCALENDAR
