BEGIN:VCALENDAR
PRODID:NingEventWidget-v1
VERSION:2.0
METHOD:PUBLISH
BEGIN:VEVENT
UID:4320450:Event:53108
DTSTAMP:20260425T125621Z
SUMMARY:Over the Hop! Ladies Arm Wrestling Benefit
DESCRIPTION:Philly Loves Beer & The Pink Boots Society hosts Over the 
 Hop this Sunday! Prominent women of Philadelphiaâ€™s beverage industry
  are teaming up in taking on wrestling personas, and going into battle
  withÂ Over The Hop! Ladies Arm Wrestling competition benefit at the Ã
 ¼ber-atmospheric Liberty Vintage Mortorcycles in Fishtown from 5-10 pm
 .Â \nThe Pink Boots Society was created to empower women beer professi
 onals to advance their careers in the industry through education and c
 ommunity building. Philly Loves Beer is a non-profit organization with
  a mission to promote and support Philadelphiaâ€™s tourism, beer educa
 tion and to produce the annual Philly Beer Week.\nThe event is co-spon
 sored by award-winning craft beer and cider companies, so attendees ca
 n enjoy copious cold beverages while cheering on their favorite compet
 itor.\nAdmission is $10 for general and $20 for ringside views. Ticket
 s can be purchased in advance here or at the door. All proceeds suppor
 t the Pink Boots Society and Philly Loves Beer.Â \n\nFor more informat
 ion visit http://phillytodo.com/events/over-the-hop-ladies-arm-wrestli
 ng-benefit
DTSTART:20171022T210000Z
DTEND:20171023T020000Z
CATEGORIES:beer, fundraiser, event
LOCATION:Liberty Vintage Motorcycles Fishtown
WEBSITE:http://phillylovesbeer.org/events/over-the-hop-ladies-arm-wres
 tling
URL:http://phillylovesbeer.org/events/over-the-hop-ladies-arm-wrestlin
 g
CONTACT:
ORGANIZER:Philly Loves Beer &amp; The Pink Boots Society
ATTACH;FMTTYPE="image/jpeg":http://storage.ning.com/topology/rest/1.0/
 file/get/3055010020?profile=original
ATTENDEE;ROLE=REQ-PARTICIPANT;PARTSTAT=ACCEPTED;RSVP=TRUE;CN="Punch Me
 dia":http://phillytodo.com/profile/PunchMedia
END:VEVENT
END:VCALENDAR
