BEGIN:VCALENDAR
PRODID:NingEventWidget-v1
VERSION:2.0
METHOD:PUBLISH
BEGIN:VEVENT
UID:4320450:Event:47077
DTSTAMP:20260425T142942Z
SUMMARY:Outstanding in Her Field: Farm Dinner Honoring Esther McManus
DESCRIPTION:Les Dames dâ€™Escoffier Philadelphia presents Outstanding 
 In Her Field on Sunday, September 25, 2016 from 4:00pm to 7:00pm. Â Th
 is new annual awards dinner will serve to recognize a Philadelphia-are
 a woman for her accomplishments in the food, beverage or hospitality Â
  industry. This yearâ€™s inaugural event will feature a farm dinner in
  the vineyard at Â the Inn at Grace Winery (50 Sweetwater Road in Glen
  Mills) honoring Â the pioneering culinary work and teachings of Chef 
 Esther McManus. Well-known for her star turn teaching Julia Child how 
 to bake the perfect croissant, she is now a beloved chef-instructor at
  the Restaurant School, where she shares her generous and inspiring pa
 ssion â€“ and flawless techniques â€“ with her lucky culinary students
 , who are known to universally adore her. Proceeds from the dinner wil
 l support the Â LDEI Â Scholarship program for women entering the culi
 nary field. For more information and tickets, visit http://www.lesdame
 sphilly.org/.\n\nFor more information visit http://phillytodo.com/even
 ts/outstanding-in-her-field-farm-dinner-honoring-esther-mcmanus
DTSTART:20160925T200000Z
DTEND:20160925T230000Z
CATEGORIES:scholarship, dinner
LOCATION:The Inn at Grace Winery
WEBSITE:https://www.eventbrite.com/e/outstanding-in-her-field-farm-din
 ner-honoring-esther-mcmanus-tickets-27265325322
URL:https://www.eventbrite.com/e/outstanding-in-her-field-farm-dinner-
 honoring-esther-mcmanus-tickets-27265325322
CONTACT:(617) 417-0547
ORGANIZER;CN="Aversa PR & Events":http://phillytodo.com/profile/KoryAv
 ersa277
ATTACH;FMTTYPE="image/jpeg":http://storage.ning.com/topology/rest/1.0/
 file/get/3054998163?profile=original
ATTENDEE;ROLE=REQ-PARTICIPANT;PARTSTAT=ACCEPTED;RSVP=TRUE;CN="Aversa P
 R & Events":http://phillytodo.com/profile/KoryAversa277
END:VEVENT
END:VCALENDAR
