BEGIN:VCALENDAR
PRODID:NingEventWidget-v1
VERSION:2.0
METHOD:PUBLISH
BEGIN:VEVENT
UID:4320450:Event:55111
DTSTAMP:20260425T112908Z
SUMMARY:Outdoor Yoga Happy Hour
DESCRIPTION:Take your yoga practice outdoors Tuesdays in June, July & 
 August at the King of Prussia Town Center. This FREE, 12-week introduc
 tory outdoor yoga course will be led by KOP-based Stillpoint Yoga Stud
 ios and feature weekly post-class specials from KOP Town Center restau
 rants.\nBYO mat, towel and water.\n \nTuesdays 5:30 – 6:30pm    
       \n*Class begins promptly at 5:30pm. Excludes July 3rd\n \
 nFor more information, please visit: www.stillpointyogastudios.com.\n1
 55 Village Drive #100, King of Prussia, PA 19406\n\nFor more informati
 on visit http://phillytodo.com/events/outdoor-yoga-happy-hour
DTSTART:20180605T213000Z
DTEND:20180828T223000Z
CATEGORIES:yoga, class
LOCATION:King of Prussia Town Center
WEBSITE:https://www.kingofprussia-towncenter.com
URL:https://www.kingofprussia-towncenter.com
CONTACT:
ORGANIZER;CN=CashmanAssoc:http://phillytodo.com/profile/CashmanAssoc
ATTACH;FMTTYPE="image/jpeg":http://storage.ning.com/topology/rest/1.0/
 file/get/3055011462?profile=original
ATTENDEE;ROLE=REQ-PARTICIPANT;PARTSTAT=ACCEPTED;RSVP=TRUE;CN=CashmanAs
 soc:http://phillytodo.com/profile/CashmanAssoc
END:VEVENT
END:VCALENDAR
