BEGIN:VCALENDAR
PRODID:NingEventWidget-v1
VERSION:2.0
METHOD:PUBLISH
BEGIN:VEVENT
UID:4320450:Event:49669
DTSTAMP:20260425T203934Z
SUMMARY:Outdoor Movie Night at The King of Prussia Town Center
DESCRIPTION:King of Prussia Town Center, Montgomery Countyâ€™s groundb
 reaking experiential outdoor center, will come to life this spring and
  summer with a selection of free, fun, family-friendly events.\nOutdoo
 r Movie Night:Â Wednesdays,Â 7:30 â€“ 10:00pm\nStarting every firstÂ W
 ednesdayÂ from May through September, the Town Center will transform i
 nto an outdoor movie theater streaming new releases and beloved classi
 cs at dusk. Check in will be held at the XFINITYâ€™s King of Prussia T
 own Center location atÂ 7:30pmÂ where guests can pick up their picnic 
 blankets, movie theater popcorn and raffle tickets (note: only the fir
 st 100 guests will receive a blanket). Each week, Town Center tenants 
 will provide discounted in-store offerings and food and beverage sampl
 es as well as a weekly raffle prize.\nÂ \nMovie schedule:\nÂ·Â Â Â Â Â
  Â Â Â May 3Â -Â LaLa Land\nFor more information visit our websiteÂ ki
 ngofprussia-towncenter.comÂ or follow us onÂ Facebook,Â TwitterÂ andÂ 
 Instagram.\nÂ \nLocation:\nThe King of Prussia Town Center\n200 W Main
  St, King of Prussia, PA 19401\n\nFor more information visit http://ph
 illytodo.com/events/outdoor-movie-night-at-the-king-of-prussia-town-ce
 nter
DTSTART:20170503T233000Z
DTEND:20170907T020000Z
CATEGORIES:outdoor, movie, night
LOCATION:The King of Prussia Town Center
WEBSITE:http://kingofprussia-towncenter.com
URL:http://kingofprussia-towncenter.com
CONTACT:
ORGANIZER;CN=CashmanAssoc:http://phillytodo.com/profile/CashmanAssoc
ATTACH;FMTTYPE="image/jpeg":
ATTENDEE;ROLE=REQ-PARTICIPANT;PARTSTAT=ACCEPTED;RSVP=TRUE;CN=CashmanAs
 soc:http://phillytodo.com/profile/CashmanAssoc
END:VEVENT
END:VCALENDAR
