BEGIN:VCALENDAR
PRODID:NingEventWidget-v1
VERSION:2.0
METHOD:PUBLISH
BEGIN:VEVENT
UID:4320450:Event:31596
DTSTAMP:20260425T175226Z
SUMMARY:Outdoor Bookworms at Hayes Park
DESCRIPTION:Join us as we kickoff \"No Screen week with activities and
  fun games!Our bookworms will join us for a healthy snack, activities 
 and games inspired by summer. This event will be held at Hayes Park w
 hich is located between Nyack and Sellars Avenue.\n\nFor more informat
 ion visit http://phillytodo.com/events/outdoor-bookworms-at-hayes-park
DTSTART:20130427T040000Z
DTEND:20130428T035900Z
CATEGORIES:reading, outdoors, park, library
LOCATION:Hayes Park
WEBSITE:http://www.lansdownepubliclibrary.com/
URL:http://www.lansdownepubliclibrary.com/
CONTACT:610-623-0239
ORGANIZER;CN="Lansdowne Public Library":http://phillytodo.com/profile/
 LansdownePublicLibrary
ATTACH;FMTTYPE="image/jpeg":http://storage.ning.com/topology/rest/1.0/
 file/get/3054963211?profile=original
ATTENDEE;ROLE=REQ-PARTICIPANT;PARTSTAT=ACCEPTED;RSVP=TRUE;CN="Lansdown
 e Public Library":http://phillytodo.com/profile/LansdownePublicLibrary
END:VEVENT
END:VCALENDAR
