BEGIN:VCALENDAR
PRODID:NingEventWidget-v1
VERSION:2.0
METHOD:PUBLISH
BEGIN:VEVENT
UID:4320450:Event:168635
DTSTAMP:20260425T131308Z
SUMMARY:Out of Bounds: The Art of Croquet
DESCRIPTION:“Out of Bounds: The Art of Croquet” is a “striking
  exhibition of artist-made mallets and balls curated by Center for Ar
 t in Wood’s Artistic Director Jennifer-Navva and Massachusetts-based
  furniture maker Silas Kopf. The exhibition features the works of 21 a
 rtists who were invited to take part based on their demonstrated commi
 tment to sculpture and design in the material of wood. Responding to t
 he game, its history and impact on pop culture, and formal aspects of 
 the croquetterie, these works explore a wide range of topics—from pe
 rsonal artistic concerns to contemporary social issues—with clarity,
  wit, and sportsmanship.\n \n\nFor more information visit http://phil
 lytodo.com/events/out-of-bounds-the-art-of-croquet
DTSTART:20210919T040000Z
DTEND:20211025T035900Z
CATEGORIES:exhibition
LOCATION:The Center for Art in Wood
WEBSITE:https://centerforartinwood.org
URL:https://centerforartinwood.org
CONTACT:
ORGANIZER:Center for Art in Wood
ATTACH;FMTTYPE="image/jpeg":https://storage.ning.com/topology/rest/1.0
 /file/get/9583583487?profile=original
ATTENDEE;ROLE=REQ-PARTICIPANT;PARTSTAT=ACCEPTED;RSVP=TRUE;CN="Bryan Ch
 an":http://phillytodo.com/profile/BryanChan
END:VEVENT
END:VCALENDAR
