BEGIN:VCALENDAR
PRODID:NingEventWidget-v1
VERSION:2.0
METHOD:PUBLISH
BEGIN:VEVENT
UID:4320450:Event:170977
DTSTAMP:20260425T112507Z
SUMMARY:Out &amp; About MNYK
DESCRIPTION:Manayunk is excited to be bringing back Out & About in MNY
 K to Main Street! In honor of National Coming Out Day in October, Out 
 & About in MNYK will host LGBTQ+ organizations and entertainment to pr
 omote Manayunk as a safe place that welcomes everyone. Festivities inc
 lude local vendors and artists, a variety of drag performances by Phil
 ly Drag Mafia, Rocky Horror Picture Show with TNP, The Philadelphia Fr
 eedom Band, and much more! \n\n\nFor more information visit http://ph
 illytodo.com/events/out-amp-about-mnyk
DTSTART:20220930T140000Z
DTEND:20221002T230000Z
CATEGORIES:festival
LOCATION:Main Street Manayunk
WEBSITE:https://manayunk.com/events/out-and-about-in-mnyk.html
URL:https://manayunk.com/events/out-and-about-in-mnyk.html
CONTACT:2672703075
ORGANIZER;CN="Manayunk Development Corporation":http://phillytodo.com/
 profile/ManayunkDevelopmentCorporation
ATTACH;FMTTYPE="image/jpeg":https://storage.ning.com/topology/rest/1.0
 /file/get/10801995482?profile=original
ATTENDEE;ROLE=REQ-PARTICIPANT;PARTSTAT=ACCEPTED;RSVP=TRUE;CN="Manayunk
  Development Corporation":http://phillytodo.com/profile/ManayunkDevelo
 pmentCorporation
END:VEVENT
END:VCALENDAR
