BEGIN:VCALENDAR
PRODID:NingEventWidget-v1
VERSION:2.0
METHOD:PUBLISH
BEGIN:VEVENT
UID:4320450:Event:59205
DTSTAMP:20260425T125024Z
SUMMARY:Out &amp; About in MNYK
DESCRIPTION:hhtp://manayunk.com/events/out-and-about-in-mnyk.html\n\nF
 or more information visit http://phillytodo.com/events/out-amp-about-i
 n-mnyk
DTSTART:20191018T040000Z
DTEND:20191021T035900Z
CATEGORIES:festival
LOCATION:Main Street Manayunk
WEBSITE:http://manayunk.com/events/out-and-about-in-mnyk.html
URL:http://manayunk.com/events/out-and-about-in-mnyk.html
CONTACT:215-482-9565
ORGANIZER:Main Street Manayunk
ATTACH;FMTTYPE="image/jpeg":
ATTENDEE;ROLE=REQ-PARTICIPANT;PARTSTAT=ACCEPTED;RSVP=TRUE;CN="Manayunk
  Development Corporation":http://phillytodo.com/profile/ManayunkDevelo
 pmentCorporation512
END:VEVENT
END:VCALENDAR
