BEGIN:VCALENDAR
PRODID:NingEventWidget-v1
VERSION:2.0
METHOD:PUBLISH
BEGIN:VEVENT
UID:4320450:Event:60321
DTSTAMP:20260425T114101Z
SUMMARY:Orphans
DESCRIPTION:Set in a dilapidated row home in North Philadelphia during
  the 1980s, two brothers with no family, direction, or support lead a 
 life where every day is a struggle to survive. Phillip is sensitive an
 d reclusive, scared to venture far from his North Philadelphia home, a
 nd paralyzed by fear of further abandonment. Older brother Treat, viol
 ent in nature and a thief by trade, works the streets, trying to keep 
 food on the table for the two of them. Worlds collide when Treat kidna
 ps a mysterious, wealthy businessman who soon turns the table on the t
 wo brothers. In a strange, hilarious, and moving way, he becomes their
  long-lost father figure.\nWritten by Lyle Kessler, Orphans premiered 
 in 1983 at the Matrix Theatre in Los Angeles and opened on Broadway in
  2013. The production of Theatre Exile’s Orphans is directed by Thea
 tre Exile Founding Artistic Director Joe Canuso and stars William Ziel
 inski, Dave Johnson, and Adam Howard.\n\nFor more information visit ht
 tp://phillytodo.com/events/orphans
DTSTART:20200409T230000Z
DTEND:20200504T020000Z
CATEGORIES:play
LOCATION:Theatre Exile
WEBSITE:https://theatreexile.org/shows/orphans/
URL:https://theatreexile.org/shows/orphans/
CONTACT:(215) 218-4022
ORGANIZER;CN="Bryan Chan":http://phillytodo.com/profile/BryanChan
ATTACH;FMTTYPE="image/jpeg":https://storage.ning.com/topology/rest/1.0
 /file/get/3996442924?profile=original
ATTENDEE;ROLE=REQ-PARTICIPANT;PARTSTAT=ACCEPTED;RSVP=TRUE;CN="Bryan Ch
 an":http://phillytodo.com/profile/BryanChan
END:VEVENT
END:VCALENDAR
