BEGIN:VCALENDAR
PRODID:NingEventWidget-v1
VERSION:2.0
METHOD:PUBLISH
BEGIN:VEVENT
UID:4320450:Event:41746
DTSTAMP:20260425T131035Z
SUMMARY:Orienteering: An Outdoor Navigation Sport for All Ages
DESCRIPTION:Test your outdoor navigation skills with the Delaware Vall
 ey Orienteering Association. Beginners and advanced orienteers are wel
 come with multiple different courses set up. White, yellow, orange, br
 own, and green courses are available, with navigational difficulty fro
 m beginner to advanced and lengths from about 1.5-5 kilometers. It’s
  family adventure at the heart of the beautiful fall season.\nPre-regi
 stration is requested for large groups to prepare maps, but drop-ins a
 re welcome.\n$12 Non-members | $7 Schuylkill Center and Delaware Valle
 y Orienteering Association Members\n\nFor more information visit http:
 //phillytodo.com/events/orienteering-an-outdoor-navigation-sport-for-a
 ll-ages-1
DTSTART:20150926T140000Z
DTEND:20150926T170000Z
CATEGORIES:orienteering, nature, families
LOCATION:Schuylkill Center for Environmental Education
WEBSITE:http://www.schuylkillcenter.org/
URL:http://www.schuylkillcenter.org/
CONTACT:215-482-7300, x110
ORGANIZER;CN="The Schuylkill Center":http://phillytodo.com/profile/Ann
 aLehrMueser
ATTACH;FMTTYPE="image/jpeg":http://storage.ning.com/topology/rest/1.0/
 file/get/3054990317?profile=original
ATTENDEE;ROLE=REQ-PARTICIPANT;PARTSTAT=ACCEPTED;RSVP=TRUE;CN="The Schu
 ylkill Center":http://phillytodo.com/profile/AnnaLehrMueser
END:VEVENT
END:VCALENDAR
