BEGIN:VCALENDAR
PRODID:NingEventWidget-v1
VERSION:2.0
METHOD:PUBLISH
BEGIN:VEVENT
UID:4320450:Event:31756
DTSTAMP:20260425T145354Z
SUMMARY:Opening: The Johari & Jimmy Rollins Center for Animal Rehabili
 tation
DESCRIPTION:As a part of a partnership between the Rollins family and 
 St. Francis Vet Center, this Saturday, April 20th, starting at 10am, J
 immy and Johari Rollins will be celebrating the opening of their names
 ake building, \"The Jimmy & Johari Rollins Center for Animal Rehabilit
 ation\", a new addition to the renowned vet center.\n\nRollins, a long
  time dog lover and former MLB MVP and personal favorite Phillie of mi
 ne whom I love dearly, will be on hand at the opening to participate i
 n the ribbon cutting ceremony, a press conference and various activiti
 es with local kids who attend. It sounds like a good time if you can m
 ake it, there's nothing like watching a good pet costume contest and d
 owning a few burgers while hanging out with a some of the Phillies.\n\
 nNow if we could just get Chooch and Delmon Young back so Jimmy can ge
 t back to leadoff where he belongs...\n\n\n\n\n\nFor more information 
 visit http://phillytodo.com/events/opening-the-johari-jimmy-rollins-ce
 nter-for-animal-rehabilitation
DTSTART:20130420T140000Z
DTEND:20130420T170000Z
CATEGORIES:grand, opening
LOCATION:Saint Francis Veterinary Center
WEBSITE:http://www.saintfrancis.org/rollinscenter/opening-day-celebrat
 ion/
URL:http://www.saintfrancis.org/rollinscenter/opening-day-celebration/
CONTACT:
ORGANIZER;CN="Alex Muller @BrotherlyFood":http://phillytodo.com/profil
 e/AlexMuller
ATTACH;FMTTYPE="image/jpeg":
ATTENDEE;ROLE=REQ-PARTICIPANT;PARTSTAT=ACCEPTED;RSVP=TRUE;CN="Alex Mul
 ler @BrotherlyFood":http://phillytodo.com/profile/AlexMuller
END:VEVENT
END:VCALENDAR
