BEGIN:VCALENDAR
PRODID:NingEventWidget-v1
VERSION:2.0
METHOD:PUBLISH
BEGIN:VEVENT
UID:4320450:Event:36770
DTSTAMP:20260425T161343Z
SUMMARY:Opening Reception and Artist Talk with LandLab Resident Artist
 s
DESCRIPTION:Come out for the official unveiling of Maggie Mills, B.H. 
 Mills, and  Marguerita Hagan’s completed installation. See their p
 ollinator-friendly garden in full, midsummer bloom and their sculptur
 e in full swarm. The artists and scientific experts will speak on pla
 nt-pollinator interactions and their importance in our ecosystem.\n\n
 For more information visit http://phillytodo.com/events/opening-recept
 ion-and-artist-talk-with-landlab-resident-artists
DTSTART:20140726T190000Z
DTEND:20140726T210000Z
CATEGORIES:art, opening
LOCATION:The Schuylkill Center for Environmental Education
WEBSITE:http://www.schuylkillcenter.org/
URL:http://www.schuylkillcenter.org/
CONTACT:215-482-7300
ORGANIZER;CN="The Schuylkill Center":http://phillytodo.com/profile/Ann
 aLehrMueser
ATTACH;FMTTYPE="image/jpeg":http://storage.ning.com/topology/rest/1.0/
 file/get/3054974945?profile=original
ATTENDEE;ROLE=REQ-PARTICIPANT;PARTSTAT=ACCEPTED;RSVP=TRUE;CN="The Schu
 ylkill Center":http://phillytodo.com/profile/AnnaLehrMueser
END:VEVENT
END:VCALENDAR
